BEGIN:VCALENDAR
VERSION:2.0
PRODID:-//CHOGinAL - ECPv6.15.20//NONSGML v1.0//EN
CALSCALE:GREGORIAN
METHOD:PUBLISH
X-WR-CALNAME:CHOGinAL
X-ORIGINAL-URL:https://choginal.org
X-WR-CALDESC:Events for CHOGinAL
REFRESH-INTERVAL;VALUE=DURATION:PT1H
X-Robots-Tag:noindex
X-PUBLISHED-TTL:PT1H
BEGIN:VTIMEZONE
TZID:America/Chicago
BEGIN:DAYLIGHT
TZOFFSETFROM:-0600
TZOFFSETTO:-0500
TZNAME:CDT
DTSTART:20220313T080000
END:DAYLIGHT
BEGIN:STANDARD
TZOFFSETFROM:-0500
TZOFFSETTO:-0600
TZNAME:CST
DTSTART:20221106T070000
END:STANDARD
BEGIN:DAYLIGHT
TZOFFSETFROM:-0600
TZOFFSETTO:-0500
TZNAME:CDT
DTSTART:20230312T080000
END:DAYLIGHT
BEGIN:STANDARD
TZOFFSETFROM:-0500
TZOFFSETTO:-0600
TZNAME:CST
DTSTART:20231105T070000
END:STANDARD
BEGIN:DAYLIGHT
TZOFFSETFROM:-0600
TZOFFSETTO:-0500
TZNAME:CDT
DTSTART:20240310T080000
END:DAYLIGHT
BEGIN:STANDARD
TZOFFSETFROM:-0500
TZOFFSETTO:-0600
TZNAME:CST
DTSTART:20241103T070000
END:STANDARD
END:VTIMEZONE
BEGIN:VEVENT
DTSTART;VALUE=DATE:20230531
DTEND;VALUE=DATE:20230604
DTSTAMP:20260425T094224
CREATED:20230406T181542Z
LAST-MODIFIED:20230626T193604Z
UID:1267-1685491200-1685836799@choginal.org
SUMMARY:Primary Camp
DESCRIPTION:PRIMARY CAMP IS OVER.\nClick for Camp Pictures… \n\nChildren completing grades K5 – 2nd grade\nEarly bird registration – $180\nRegistration after May 15 – $205\n\nClick to make your payment online…
URL:https://choginal.org/event/primary-camp/
LOCATION:Camp Chula Vista\, 1000 Chula Vista Lane\, Pell City\, AL\, 35125\, United States
ATTACH;FMTTYPE=image/png:https://choginal.org/wp-content/uploads/2023/03/CCV2023Logo-copy.png
ORGANIZER;CN="Valerie Higgins":MAILTO:higginsva@gmail.com
END:VEVENT
BEGIN:VEVENT
DTSTART;VALUE=DATE:20230605
DTEND;VALUE=DATE:20230611
DTSTAMP:20260425T094224
CREATED:20230406T181756Z
LAST-MODIFIED:20230626T193710Z
UID:1273-1685923200-1686441599@choginal.org
SUMMARY:Sr High Camp
DESCRIPTION:SR HIGH CAMP IS OVER.\nClick for Camp Pictures… \n\nChildren completing 9th-12th grade\nEarly bird registration – $220\nRegistration after May 15 – $245\n\nClick to make your payment online…
URL:https://choginal.org/event/sr-high-camp/
LOCATION:Camp Chula Vista\, 1000 Chula Vista Lane\, Pell City\, AL\, 35125\, United States
ATTACH;FMTTYPE=image/png:https://choginal.org/wp-content/uploads/2023/03/CCV2023Logo-copy.png
ORGANIZER;CN="Valerie Higgins":MAILTO:higginsva@gmail.com
END:VEVENT
BEGIN:VEVENT
DTSTART;VALUE=DATE:20230613
DTEND;VALUE=DATE:20230618
DTSTAMP:20260425T094224
CREATED:20230406T181636Z
LAST-MODIFIED:20230626T193736Z
UID:1269-1686614400-1687046399@choginal.org
SUMMARY:Intermediate Camp
DESCRIPTION:INTERMEDIATE CAMP IS OVER.\nClick for Camp Pictures… \n\nChildren completing 3rd – 5th grade\nEarly bird registration – $200\nRegistration after May 15 – $225\n\nClick to make your payment online… \n 
URL:https://choginal.org/event/intermediate-camp/
LOCATION:Camp Chula Vista\, 1000 Chula Vista Lane\, Pell City\, AL\, 35125\, United States
ATTACH;FMTTYPE=image/png:https://choginal.org/wp-content/uploads/2023/03/CCV2023Logo-copy.png
ORGANIZER;CN="Valerie Higgins":MAILTO:higginsva@gmail.com
END:VEVENT
BEGIN:VEVENT
DTSTART;VALUE=DATE:20230619
DTEND;VALUE=DATE:20230625
DTSTAMP:20260425T094224
CREATED:20230406T181719Z
LAST-MODIFIED:20230626T193752Z
UID:1271-1687132800-1687651199@choginal.org
SUMMARY:Jr High Camp
DESCRIPTION:JR CAMP IS OVER.\nClick for Camp Pictures… \n\nChildren completing 6th – 8th grade\nEarly bird registration – $220\nRegistration after May 15 – $245\n\nClick to make your payment online…
URL:https://choginal.org/event/jr-high-camp/
LOCATION:Camp Chula Vista\, 1000 Chula Vista Lane\, Pell City\, AL\, 35125\, United States
ATTACH;FMTTYPE=image/png:https://choginal.org/wp-content/uploads/2023/03/CCV2023Logo-copy.png
ORGANIZER;CN="Valerie Higgins":MAILTO:higginsva@gmail.com
END:VEVENT
END:VCALENDAR