BEGIN:VCALENDAR
VERSION:2.0
PRODID:-//CHOGinAL - ECPv6.15.20//NONSGML v1.0//EN
CALSCALE:GREGORIAN
METHOD:PUBLISH
X-WR-CALNAME:CHOGinAL
X-ORIGINAL-URL:https://choginal.org
X-WR-CALDESC:Events for CHOGinAL
REFRESH-INTERVAL;VALUE=DURATION:PT1H
X-Robots-Tag:noindex
X-PUBLISHED-TTL:PT1H
BEGIN:VTIMEZONE
TZID:America/Chicago
BEGIN:DAYLIGHT
TZOFFSETFROM:-0600
TZOFFSETTO:-0500
TZNAME:CDT
DTSTART:20220313T080000
END:DAYLIGHT
BEGIN:STANDARD
TZOFFSETFROM:-0500
TZOFFSETTO:-0600
TZNAME:CST
DTSTART:20221106T070000
END:STANDARD
BEGIN:DAYLIGHT
TZOFFSETFROM:-0600
TZOFFSETTO:-0500
TZNAME:CDT
DTSTART:20230312T080000
END:DAYLIGHT
BEGIN:STANDARD
TZOFFSETFROM:-0500
TZOFFSETTO:-0600
TZNAME:CST
DTSTART:20231105T070000
END:STANDARD
BEGIN:DAYLIGHT
TZOFFSETFROM:-0600
TZOFFSETTO:-0500
TZNAME:CDT
DTSTART:20240310T080000
END:DAYLIGHT
BEGIN:STANDARD
TZOFFSETFROM:-0500
TZOFFSETTO:-0600
TZNAME:CST
DTSTART:20241103T070000
END:STANDARD
END:VTIMEZONE
BEGIN:VEVENT
DTSTART;TZID=America/Chicago:20230406T090000
DTEND;TZID=America/Chicago:20230406T100000
DTSTAMP:20260425T122936
CREATED:20221206T184719Z
LAST-MODIFIED:20230406T182849Z
UID:1011-1680771600-1680775200@choginal.org
SUMMARY:Edification and Encouragement Webinar
DESCRIPTION:Therefore encourage one another and (edify) build each other up \n1 Thessalonians 5:11\nPastors have unique struggles\, challenges\, joys\, and victories.  We understand each other and need each other. So I am starting E&E meetings.  You have probably guessed by now that E&E means to encourage and to edify\, which we all need.  Zoom is the most convenient way to have regular meetings so we will start with zoom meetings.  If you do not have access to a computer please let me know and we can make other accommodations.  We want everyone to be involved.  Please email me at PastorMilan@choginal.org for more details and information on our next meeting.\n \nIn His Service\, \nMilan
URL:https://choginal.org/event/edification-and-encouragement-webinar/
LOCATION:IN
ATTACH;FMTTYPE=image/png:https://choginal.org/wp-content/uploads/2022/12/edificationencouragement540x400.png
ORGANIZER;CN="Milan Dekich":MAILTO:pastormilan@choginal.org
END:VEVENT
END:VCALENDAR