BEGIN:VCALENDAR
VERSION:2.0
PRODID:-//CHOGinAL - ECPv6.15.20//NONSGML v1.0//EN
CALSCALE:GREGORIAN
METHOD:PUBLISH
X-ORIGINAL-URL:https://choginal.org
X-WR-CALDESC:Events for CHOGinAL
REFRESH-INTERVAL;VALUE=DURATION:PT1H
X-Robots-Tag:noindex
X-PUBLISHED-TTL:PT1H
BEGIN:VTIMEZONE
TZID:UTC
BEGIN:STANDARD
TZOFFSETFROM:+0000
TZOFFSETTO:+0000
TZNAME:UTC
DTSTART:20200101T000000
END:STANDARD
END:VTIMEZONE
BEGIN:VEVENT
DTSTART;TZID=UTC:20211203T180000
DTEND;TZID=UTC:20211203T210000
DTSTAMP:20260423T183450
CREATED:20211110T231303Z
LAST-MODIFIED:20211217T191835Z
UID:309-1638554400-1638565200@choginal.org
SUMMARY:2021 Leadership Appreciation Banquet
DESCRIPTION:This event is over.\nClick here to see pictures from this event!\nThis year’s appreciation banquet will feature comedian Marty Simpson!\nMarty has been a long time Christian comedian who will provide a night full of laughs as we come together to reflect and celebrate the past year.  We look forward to seeing each of you there for this year’s Appreciation Banquet.\n\n\nFellowship with church leaders across our state\n\n\nLive music from professional guitarist\, Case Graham\n\n\nEnjoy great food!\n\n\nRecognition of retiring pastors and new pastors in the state\n\n\nTo reserve your seats\, contact Jeremy Bolzle at 256-507-1900 or email: j_bolzle@yahoo.com by Nov 1st 2021.\nSEATS ARE LIMITED!\nThis free event is presented by:  The Alabama Church of God
URL:https://choginal.org/event/2021-leadership-appreciation-banquet/
LOCATION:Stone Bridge Farms\, 281 Co Rd 717\, Cullman\, AL\, 35055\, United States
ORGANIZER;CN="Jeremy Bolzle":MAILTO:j_bolzle@yahoo.com
END:VEVENT
BEGIN:VEVENT
DTSTART;TZID=UTC:20211009T090000
DTEND;TZID=UTC:20211009T120000
DTSTAMP:20260423T183450
CREATED:20210810T000958Z
LAST-MODIFIED:20210810T001421Z
UID:284-1633770000-1633780800@choginal.org
SUMMARY:GA Meeting
DESCRIPTION:Saturday\, October 9\, 2021\n9:00am\nRiverchase Church of God
URL:https://choginal.org/event/ga-meeting/
LOCATION:Riverchase Community Church\, 2053 Old Montgomery Highway\, Birmingham\, AL\, 35244\, United States
ORGANIZER;CN="Tony Weiger":MAILTO:tweiger@riverchase.cc
END:VEVENT
BEGIN:VEVENT
DTSTART;VALUE=DATE:20210925
DTEND;VALUE=DATE:20210926
DTSTAMP:20260423T183450
CREATED:20210809T211959Z
LAST-MODIFIED:20210809T212045Z
UID:264-1632528000-1632614399@choginal.org
SUMMARY:Camp Work Day
DESCRIPTION: Camp Chula Vista family\,  \nOur campgrounds have been well-used and well-loved for many\, many years\, which means everything has become well-worn. We are organizing a men’s work day for September 25\, 2021 with a few major projects we would like to see completed. There are a few ways you can be involved!  \n\nWe need a few electricians\, plumbers\, and especially construction experts to lead teams of volunteers for some of the projects. If you fit one of those categories and are available to volunteer your time and expertise\, please contact Josh Bruce for details regarding the projects. \nIf you are willing to volunteer to be part of a team to help with these projects\, mark September 25 on your calendar and let Valerie Higgins know we can expect you. We will divide into teams to tackle each project. \nIf you or your church can help fund some of these projects\, please let Valerie know\, or send her a check made out to CCV designated “special projects.” \n\nWe are so thankful that God has entrusted this camp to us\, and we want to glorify Him by taking care of it for generations to come!  \nGod bless\,  \nJosh Bruce  \nCamp Chula Vista  \n205.338.4000  \ncampchulavista@outlook.com 
URL:https://choginal.org/event/camp-work-day/
LOCATION:Camp Chula Vista\, 1000 Chula Vista Lane\, Pell City\, AL\, 35125\, United States
ORGANIZER;CN="Josh Bruce":MAILTO:campchulavista@outlook.com
END:VEVENT
BEGIN:VEVENT
DTSTART;VALUE=DATE:20210910
DTEND;VALUE=DATE:20210912
DTSTAMP:20260423T183450
CREATED:20210809T220612Z
LAST-MODIFIED:20210809T222929Z
UID:269-1631232000-1631404799@choginal.org
SUMMARY:CWC Fall Retreat
DESCRIPTION:Registration begins at Camp Chula Vista at 4pm on Friday\, September 10\, 2021.  Dinner at 6pm. \nEnds at noon on Saturday\, September 11\, 2021. \nOur speaker is Tammy Ross\, Children’s Minister at Fayette First Baptist Church in Fayette\, AL and serves at Kids and Kin\, a program of Family Guidance Center of Alabama. \nWorship music provided by Longview Church of God ladies. \nRegistration due by August 30\, 2021.  Email karenyoung@ccboe.org \nClick for full CWC Fall Retreat Brochure
URL:https://choginal.org/event/cwc-fall-retreat/
LOCATION:Camp Chula Vista\, 1000 Chula Vista Lane\, Pell City\, AL\, 35125\, United States
ORGANIZER;CN="Karen Young":MAILTO:karenyoung@mail.com
END:VEVENT
BEGIN:VEVENT
DTSTART;TZID=UTC:20210730T090000
DTEND;TZID=UTC:20210731T210000
DTSTAMP:20260423T183450
CREATED:20210717T033536Z
LAST-MODIFIED:20210717T033904Z
UID:197-1627635600-1627765200@choginal.org
SUMMARY:Fall Fever-Youth@Campmeeting 2021
DESCRIPTION:Begins at 9am Friday\, July 30 and ends at 9pm Saturday\, July 31 \n$34 – All meals included \nFriday\, July 30\n9:00 am – Arrive and put things in cabins\nSnack Shack opens\n9:30 – Bible Study session 1 – Pavilion\n10:45 – Service Project – Pavilion\n12:00 – Lunch – CRC\n1:00 – Bible Study session 2 – Pavilion\n2:30 – Free Time\n5:30 – Dinner – CRC\n7:00 – Service – Pavilion\n9:00 – Refreshments – Dining Hall\n9:30 – Games – Pavilion \nSaturday\, July 31\n8:00 – Breakfast – CRC\n9:00 – Bible Study session 3 – Pavilion\n10:30 – Games – Valley\n12:00 – Church Picnic\n5:00 – Dinner – CRC\n6:30 – Service – Pavilion\n9:00 – Home \nIf a student is coming before Friday morning\, they must be accompanied by\nan adult over 21. An additional night in a cabin is $10/person\, or $48 for a\nmotel room. Meals are $ 7 for Breakfast\, 8\, for lunch\, 9 for dinner. This is\nnot included in the Fall Fever price. \nPlease register using the Google Form link below if you are coming to Fall\nFever. \nhttps://docs.google.com/forms/d/e/1FAIpQLSd3JvaZJxIPdHyvQ3J-0Py9F3_-tAMU6kgLkU2C71wdTpliCA/viewform
URL:https://choginal.org/event/2021-fall-fever-youthcampmeeting/
LOCATION:Camp Chula Vista\, 1000 Chula Vista Lane\, Pell City\, AL\, 35125\, United States
END:VEVENT
BEGIN:VEVENT
DTSTART;TZID=UTC:20210729T170000
DTEND;TZID=UTC:20210731T183000
DTSTAMP:20260423T183450
CREATED:20210717T024739Z
LAST-MODIFIED:20211111T005202Z
UID:186-1627578000-1627756200@choginal.org
SUMMARY:Alabama State Campmeeting 2021
DESCRIPTION:Note:  In the event you missed Alabama State Campmeeting this year\, you can click on Facebook links below for videos recorded live.\n Speaker:  Horace Sheppard\, Jr \n Worship:  Todd Braschler \nThursday\, July 29\n5pm- Dinner (CRC)\n7pm- Service (Pavilion)  https://www.facebook.com/choginal/videos/260817778803820\n9pm- Refreshments provided by Board of Christian Education (Dining Hall) \nFriday\, July 30th\n7am- Personal Prayer Time (McDonald Room)\n8am- Breakfast (CRC)\n9:15am- 10:15am- Todd Braschler Conference (McDonald Room) Session 1\n10:30am- 11:30am- Todd Braschler Conference (McDonald Room) Session 2\n12pm- Lunch and Senior Luncheon with Heritage Sing along led by Terry Jackson\n1:30pm- 2:30pm- Harold Coomer Ministries\n2:30pm- Free Time\n5pm- Dinner (CRC) – Shrimp Boil\n7pm- Service (Pavilion)  https://www.facebook.com/choginal/videos/136627475210622\n9pm- Refreshments provided by CWC (Dining Hall) \nSaturday\, July 31th\n7am- Personal Prayer Time (McDonald Room)\n8am- Breakfast (CRC)\n9am- Minister’s Meeting (McDonald Room)\n9am- 10:15am – Bible Study led by Jason Gamble (Dining Hall)\n10:30am- 11:30am- Outdoor Fellowship and Games\n12pm- 5pm- Free Picnic provided by New Life Church\n5pm- Dinner\n6:30pm- Service https://www.facebook.com/choginal/videos/419448656052411 \nCRC cost – $48/ night/room (Contact Josh Bruce – 205-338-4000 to make reservations) \nMeals – $7 Breakfast\, $8 Lunch\, $9 Dinner (Lunch and Dinner Saturday free) \nCabins: $10/night
URL:https://choginal.org/event/alabama-state-campmeeting-2021/
LOCATION:Camp Chula Vista\, 1000 Chula Vista Lane\, Pell City\, AL\, 35125\, United States
END:VEVENT
BEGIN:VEVENT
DTSTART;TZID=UTC:20210621T140000
DTEND;TZID=UTC:20210625T100000
DTSTAMP:20260423T183450
CREATED:20210629T021142Z
LAST-MODIFIED:20210629T024445Z
UID:136-1624284000-1624615200@choginal.org
SUMMARY:Junior Camp 2021
DESCRIPTION:Junior camp is for students who have completed 3rd – 5th grades\n$180 registration includes food\, lodging\, all activities\n(Bible study\, swimming\, horseback riding\, crafts\, canoeing\, archery\, games\, etc.)\n\n\nRegister using the link below by May 15.\n\n\nRegistration Form via Google Docs\n\n\nDrop off will be 2-4pm Monday\, June 21\nPickup will 10am Friday\, June 25
URL:https://choginal.org/event/junior-camp-at-ccv-2021/
LOCATION:Camp Chula Vista\, 1000 Chula Vista Lane\, Pell City\, AL\, 35125\, United States
ATTACH;FMTTYPE=image/jpeg:https://choginal.org/wp-content/uploads/2021/06/CCVJuniorCamp2021-e1624912853934.jpg
END:VEVENT
BEGIN:VEVENT
DTSTART;TZID=UTC:20210614T140000
DTEND;TZID=UTC:20210617T100000
DTSTAMP:20260423T183450
CREATED:20210629T021540Z
LAST-MODIFIED:20210629T024427Z
UID:138-1623679200-1623924000@choginal.org
SUMMARY:Middler Camp 2021
DESCRIPTION:Middler camp is for students who have completed K5 – 2nd grades\n$160 registration includes food\, lodging\, all activities\n(Bible study\, swimming\, horseback riding\, crafts\, canoeing\, archery\, games\, etc.)\n\n\nRegister using the link below by May 15.\n\n\nRegistration Form via Google Docs\n\n\nDrop off will be 2-4pm Monday\, June 14\nPickup will 10am Thursday\, June 17
URL:https://choginal.org/event/middler-camp-at-ccv-2021/
LOCATION:Camp Chula Vista\, 1000 Chula Vista Lane\, Pell City\, AL\, 35125\, United States
ATTACH;FMTTYPE=image/jpeg:https://choginal.org/wp-content/uploads/2021/06/CCVMiddlerCamp2021-e1624912932137.jpg
END:VEVENT
BEGIN:VEVENT
DTSTART;TZID=UTC:20210607T140000
DTEND;TZID=UTC:20210612T100000
DTSTAMP:20260423T183450
CREATED:20210629T023219Z
LAST-MODIFIED:20210629T024304Z
UID:148-1623074400-1623492000@choginal.org
SUMMARY:Teen Camp 2021
DESCRIPTION:Teen camp is for students who have completed 6th – 12th grades\n$200 registration includes food\, lodging\, all activities\n(Bible study\, swimming\, horseback riding\, crafts\, canoeing\, archery\, games\, etc.)\nRegister using the link below by May 15.\nRegistration Form via Google Docs\nDrop off will be 2-4pm Monday\, June 7\nPickup will 10am Saturday\, June 12
URL:https://choginal.org/event/teen-camp/
LOCATION:Camp Chula Vista\, 1000 Chula Vista Lane\, Pell City\, AL\, 35125\, United States
ATTACH;FMTTYPE=image/jpeg:https://choginal.org/wp-content/uploads/2021/06/CCVTeenCamp2021-e1624912947212.jpg
END:VEVENT
END:VCALENDAR