BEGIN:VCALENDAR
VERSION:2.0
PRODID:-//CHOGinAL - ECPv6.15.20//NONSGML v1.0//EN
CALSCALE:GREGORIAN
METHOD:PUBLISH
X-WR-CALNAME:CHOGinAL
X-ORIGINAL-URL:https://choginal.org
X-WR-CALDESC:Events for CHOGinAL
REFRESH-INTERVAL;VALUE=DURATION:PT1H
X-Robots-Tag:noindex
X-PUBLISHED-TTL:PT1H
BEGIN:VTIMEZONE
TZID:America/Chicago
BEGIN:DAYLIGHT
TZOFFSETFROM:-0600
TZOFFSETTO:-0500
TZNAME:CDT
DTSTART:20230312T080000
END:DAYLIGHT
BEGIN:STANDARD
TZOFFSETFROM:-0500
TZOFFSETTO:-0600
TZNAME:CST
DTSTART:20231105T070000
END:STANDARD
BEGIN:DAYLIGHT
TZOFFSETFROM:-0600
TZOFFSETTO:-0500
TZNAME:CDT
DTSTART:20240310T080000
END:DAYLIGHT
BEGIN:STANDARD
TZOFFSETFROM:-0500
TZOFFSETTO:-0600
TZNAME:CST
DTSTART:20241103T070000
END:STANDARD
BEGIN:DAYLIGHT
TZOFFSETFROM:-0600
TZOFFSETTO:-0500
TZNAME:CDT
DTSTART:20250309T080000
END:DAYLIGHT
BEGIN:STANDARD
TZOFFSETFROM:-0500
TZOFFSETTO:-0600
TZNAME:CST
DTSTART:20251102T070000
END:STANDARD
BEGIN:DAYLIGHT
TZOFFSETFROM:-0600
TZOFFSETTO:-0500
TZNAME:CDT
DTSTART:20260308T080000
END:DAYLIGHT
BEGIN:STANDARD
TZOFFSETFROM:-0500
TZOFFSETTO:-0600
TZNAME:CST
DTSTART:20261101T070000
END:STANDARD
BEGIN:DAYLIGHT
TZOFFSETFROM:-0600
TZOFFSETTO:-0500
TZNAME:CDT
DTSTART:20270314T080000
END:DAYLIGHT
BEGIN:STANDARD
TZOFFSETFROM:-0500
TZOFFSETTO:-0600
TZNAME:CST
DTSTART:20271107T070000
END:STANDARD
END:VTIMEZONE
BEGIN:VEVENT
DTSTART;TZID=America/Chicago:20260418T090000
DTEND;TZID=America/Chicago:20260418T150000
DTSTAMP:20260423T160822
CREATED:20260212T193824Z
LAST-MODIFIED:20260212T200444Z
UID:7150-1776502800-1776524400@choginal.org
SUMMARY:2026 Alabama Women's Conference
DESCRIPTION:Click to download invitation cards… \nTo register\, send a check for $25 per person by April 8\, along with your church name and the names of the ladies attending. Please also list any food allergies.\nSend to:\nMichele Murray\n100 Rockbrook Lane \nPelham\, AL 35124
URL:https://choginal.org/event/2026-alabama-womens-conference/
LOCATION:Rock Creek Church of God\, 1001 Park Road\, Bessemer\, AL\, 35023\, United States
ORGANIZER;CN="Michele Murray":MAILTO:chelesong22@gmail.com
END:VEVENT
BEGIN:VEVENT
DTSTART;TZID=America/Chicago:20260228T083000
DTEND;TZID=America/Chicago:20260228T140000
DTSTAMP:20260423T160822
CREATED:20260107T212821Z
LAST-MODIFIED:20260107T214056Z
UID:7089-1772267400-1772287200@choginal.org
SUMMARY:2026 Alabama Church of God Minister's Meeting
DESCRIPTION:Click for Promotional Video…
URL:https://choginal.org/event/2026-alabama-church-of-god-ministers-meeting/
LOCATION:Riverchase Community Church\, 2053 Old Montgomery Highway\, Birmingham\, AL\, 35244\, United States
ORGANIZER;CN="Milan Dekich":MAILTO:pastormilan@choginal.org
END:VEVENT
BEGIN:VEVENT
DTSTART;TZID=America/Chicago:20260203T093000
DTEND;TZID=America/Chicago:20260203T163000
DTSTAMP:20260423T160822
CREATED:20260203T012843Z
LAST-MODIFIED:20260203T012913Z
UID:7132-1770111000-1770136200@choginal.org
SUMMARY:2026 Church Multiplication & Discipleship Webinar
DESCRIPTION:Anderson University School of Theology and Christian Ministry is partnering with Church of God regions and churches to provide access to national leaders with a track record of leading for multiplication and discipleship. \nJoin us for our third annual conference on Tuesday\, February 3\, 2026\, Exploring Turn-Arounds\, Mergers\, and Models of Multiplication and Discipleship. Participate in this webinar with the only streaming host in Alabama\, Fairview – The Grace Place.   \nThe speaker for this webinar is Rev. Robert Hot. \nThe webinar begins at 9am on February 3\, 2025 and lasts until 4:30pm.  Your attendance is completely free.  All you need to do is contact Pastors Greg Hill at 256-612-6801 or Milan Dekich at 256-654-8748 for more information. \nClick for more info…
URL:https://choginal.org/event/church-multiplication-discipleship-webinar/
LOCATION:Fairview – The Grace Place\, 4154 Huckaby Bridge Road\, Falkville\, AL\, 35622\, United States
ORGANIZER;CN="Milan Dekich":MAILTO:pastormilan@choginal.org
END:VEVENT
BEGIN:VEVENT
DTSTART;VALUE=DATE:20260203
DTEND;VALUE=DATE:20260206
DTSTAMP:20260423T160822
CREATED:20251212T194816Z
LAST-MODIFIED:20251212T194816Z
UID:7067-1770076800-1770335999@choginal.org
SUMMARY:2026 National Youth Pastor Retreat
DESCRIPTION:2026 National Church of God Youth Pastor Retreat \nFebruary 3-5\, 2026 \nCountry Lake Christian Retreat in Underwood\, Indiana \nRegistration Deadline is Friday\, January 16\, 2026 \n(Click for more details…)
URL:https://choginal.org/event/2026-national-youth-pastor-retreat/
LOCATION:IN
END:VEVENT
BEGIN:VEVENT
DTSTART;VALUE=DATE:20260117
DTEND;VALUE=DATE:20260120
DTSTAMP:20260423T160822
CREATED:20251213T001655Z
LAST-MODIFIED:20251228T194656Z
UID:7069-1768608000-1768867199@choginal.org
SUMMARY:Forge! 2026
DESCRIPTION:FORGE!  2026\n\nJoin us for Forge 2026  in Huntsville\, AL at the Embassy Suites over January 17th-19th\, 2026. The cost to attend is $45\, plus hotel stay. Hotel reservations must be made by December 31st. Here is the link to reserve rooms: https://www.hilton.com/en/attend-my-event/hsveses-91a-d5bc7349-9765-417a-bb9d-d1f983172e23/\n\nBreakfast is included every morning\, plus one provided lunch with reservation of hotel rooms. \n\nWe are excited to be able to gather together with the state of Alabama for a weekend of growing in our faith and putting Jesus in “FOCUS” as Hebrews 12:2 is our grounding Scripture for the weekend. We would love for your youth group to join us!
URL:https://choginal.org/event/forge-2026/
LOCATION:Embassy Suites\, Huntsvile\, AL\, 800 Monroe St SW\, Huntsville\, AL\, 35801\, United States
END:VEVENT
BEGIN:VEVENT
DTSTART;TZID=America/Chicago:20251205T180000
DTEND;TZID=America/Chicago:20251205T200000
DTSTAMP:20260423T160822
CREATED:20250514T235503Z
LAST-MODIFIED:20251009T184034Z
UID:7004-1764957600-1764964800@choginal.org
SUMMARY:2025 Alabama Leadership Unity Banquet
DESCRIPTION:2025 Alabama Leadership Unity Banquet \nFriday\, December 5\, 2025 \n6:oopm | FREE \nEntertainment:  Kevin Derryberry \nBusiness Casual \nOur Unity Banquet is an opportunity to meet Church of God  \nfolks from all over the state.  \nIt is free to you and open to all pastors\, leaders\, staff\, and spouses.   \nThe banquet will include a delicious dinner and entertainment.  \nSpread the word.   \nPlease let us know how many you have coming \nRSVP to JEREMY BOLZLE \n256-507-1900 \nJ_BOLZLE@YAHOO.COM
URL:https://choginal.org/event/2025-alabama-leadership-banquet/
LOCATION:Loft 212\, 212 4th St SW\, Cullma\,AL 35055\, 212 4th St SW\, Cullman\, AL\, 35055\, United States
ORGANIZER;CN="Jeremy Bolzle":MAILTO:j_bolzle@yahoo.com
END:VEVENT
BEGIN:VEVENT
DTSTART;TZID=America/Chicago:20251115T170000
DTEND;TZID=America/Chicago:20251115T190000
DTSTAMP:20260423T160822
CREATED:20251009T184342Z
LAST-MODIFIED:20251009T184834Z
UID:7049-1763226000-1763233200@choginal.org
SUMMARY:2025 15th Annual Feed\, Love\, Serve Auction
DESCRIPTION:Boots & BBQ\nFeed\, Love\, Serve Auction for Guatemala Missions \nThe 15th Annual Guatemala Auction at Fairview-The Grace Place is going to be on Saturday\, November 15\, 2025 at 5:00pm.  Save the date and join us for dinner and a live auction immediately following dinner. \nClick to Register here…
URL:https://choginal.org/event/2025-15th-annual-feed-love-serve-auction/
LOCATION:Fairview – The Grace Place\, 4154 Huckaby Bridge Road\, Falkville\, AL\, 35622\, United States
ORGANIZER;CN="Milan Dekich":MAILTO:pastormilan@choginal.org
END:VEVENT
BEGIN:VEVENT
DTSTART;TZID=America/Chicago:20251101T120000
DTEND;TZID=America/Chicago:20251101T170000
DTSTAMP:20260423T160822
CREATED:20250924T171725Z
LAST-MODIFIED:20250924T171752Z
UID:7041-1761998400-1762016400@choginal.org
SUMMARY:2025 General Assembly Meeting
DESCRIPTION:The General Assembly of the Church of God in Alabama will meet 9 AM\, Nov 1 at New Life Church of God. The General Assembly of the Church of God is the gathering of all affiliated churches in Alabama.  The Church of God has a congregational polity in which autonomous churches gather voluntarily to jointly conduct the business of the assembly. Each church can send 2 lay representatives and any credential minister.   \nAll committees should submit a report and their budget to the state secretary by Oct 25.  Michele Murray is our state secretary. Her email is chelesong22@gmail.com.  \nThe General Assembly has important business to conduct that requies your attendance.   \nNew Life Church. 1160 West Lacon Road\, Falkville\, AL 35622
URL:https://choginal.org/event/2025-general-assembly-meeting/
LOCATION:New Life Church of God\, 1160 W Lacon Road\, Falkville\, Alabama\, 35622
ORGANIZER;CN="Milan Dekich":MAILTO:pastormilan@choginal.org
END:VEVENT
BEGIN:VEVENT
DTSTART;TZID=America/Chicago:20250913T090000
DTEND;TZID=America/Chicago:20250913T150000
DTSTAMP:20260423T160822
CREATED:20250907T223610Z
LAST-MODIFIED:20250907T223610Z
UID:7031-1757754000-1757775600@choginal.org
SUMMARY:2025 CWC Fall Retreat
DESCRIPTION:
URL:https://choginal.org/event/2025-cwc-fall-retreat/
LOCATION:Madison First Chuch of God\, 1537 Capshaw Road\, Madison\, AL\, 35757\, United States
ORGANIZER;CN="Michele Murray":MAILTO:chelesong22@gmail.com
END:VEVENT
BEGIN:VEVENT
DTSTART;TZID=America/Chicago:20250823T130000
DTEND;TZID=America/Chicago:20250823T200000
DTSTAMP:20260423T160822
CREATED:20250510T190036Z
LAST-MODIFIED:20250619T205005Z
UID:6992-1755954000-1755979200@choginal.org
SUMMARY:2025 Alabama Campmeeting
DESCRIPTION:Date:\n   Saturday\,\n   August 23\, 2025Place:\n  Fairview\, The Grace Place\n  4154 Huckaby Bridge Road\n  Falkville\, Alabama 35622Speakers:  Joshua Brandt & Elbin Morales \nSchedule:\n 1pm – 2:30pm  \n     Ministers Meeting\n     Conference with Joshua Brandt\n 3pm – 4:30pm\n     Main Service-Elbin Morales\n 4:30pm-6pm\n     Supper and Fellowship\n6pm\n     PM Service – Joshua Brandt \nJoshua Brandt   Joshua began his journey in ministry as a youth pastor at a small church in Hartville\, Ohio\, in the summer of 1995. Since then\, he has pastored in Northwest Ohio\, Indiana\, and Michigan. Joshua is the Associate State Pastor for the Church of God in Michigan. He serves the Church of God as chair of the Committee on Credentials. \n\n \n   Joshua is passionate about helping a generation of leaders find and live out their destinies. He believes every leader and every church needs to be seen and known.  \n   Joshua and Laura have three daughters: Sarah\, Olivia\, and Sophia. \nElbin Morales\n   Elbin Morales pastors Iglesia Fuente de Salvación in Decatur\, Alabama.  God has given him a vision to plant a Church of God in every city in Alabama.  He has not planted a church in Athens\, Hartselle\, Jasper\, and Huntsville\, His wife\, Angie\, is also a licensed minister.  They have three children: Alexandra\, Jared\, and Elvin. \n \nScreenshot
URL:https://choginal.org/event/2025-alabama-campmeeting/
LOCATION:Fairview – The Grace Place\, 4154 Huckaby Bridge Road\, Falkville\, AL\, 35622\, United States
ORGANIZER;CN="Milan Dekich":MAILTO:pastormilan@choginal.org
END:VEVENT
BEGIN:VEVENT
DTSTART;VALUE=DATE:20250728
DTEND;VALUE=DATE:20250802
DTSTAMP:20260423T160822
CREATED:20250215T012832Z
LAST-MODIFIED:20250403T173312Z
UID:6901-1753660800-1754092799@choginal.org
SUMMARY:2025 Alabama Youth Camp
DESCRIPTION:Youth Camp (7th-12th Grade) | July 28th-August 1st\, 2025\nSave the date! Join us for Beach Camp at Laguna Beach Christian Retreat in Panama City Beach\, Florida! This camp is for graduated 6th graders through graduated seniors out of high school. The cost to attend is $310. This includes lodging\, meals\, and the programming of the camp. *Does not include travel expenses* \n\n\n\nRegistration Due by July 13\, 2025\n\nThere will be no general registration as in the past\nEach church will accept registrations from campers and counselors\nChurch should designate a person for each camp as the “main group leader” who will be responsible for registrations and payment for their group\, like Forge and IYC )\nChurches will be responsible for having adequate counselors for their campers.\n“Leader “will create your own registration form (link to sample here)\n“Leader” will fill out a GROUP registration form (link here)\nRegistration payment for your group is due with your group registration\n\n\nCost: $310 (for all campers and counselors)\n\nIncludes cost for housing\, food and programming for all\n\n  \n \n  \nFor Letter from Board of CE discussing changes this year \n\n  \n \n  \nFor Beach Camp Brochure
URL:https://choginal.org/event/2025-alabama-youth-camp/
LOCATION:Panama City Beach\, Panama City\, FL\, United States
END:VEVENT
BEGIN:VEVENT
DTSTART;VALUE=DATE:20250713
DTEND;VALUE=DATE:20250717
DTSTAMP:20260423T160822
CREATED:20250215T012438Z
LAST-MODIFIED:20250610T185914Z
UID:6896-1752364800-1752710399@choginal.org
SUMMARY:2025 Alabama Kids Camp
DESCRIPTION:  \nKids Camp (2nd-6th Grade) | July 13th-16th\, 2025\nSave the date! Join us for Kids Camp at Camp Boothe in West Blocton\, AL! This camp is for graduated 1st graders through graduated 6th graders. \n\nRegistration Due by June 29\, 2025\n\nThere will be no general registration as in the past\nEach church will accept registrations from campers and counselors\nChurch should designate a person for each camp as the “main group leader” who will be responsible for registrations and payment for their group\, like Forge and IYC )\nChurches will be responsible for having adequate counslors for their campers.\n“Leader “will create your own registration form (link to sample here)\n“Leader” will fill out a GROUP registration form (link to sample here)\nRegistration payment for your group is due with your group registration\n\n\nCost: $250 (for all campers and counselors)\n\nIncludes cost for housing\, food and programming for all\n\n  \n \n  \nFor Letter from Board of CE discussing changes this year
URL:https://choginal.org/event/2025-alabama-kids-camp/
LOCATION:Camp Boothe\, West Blocton\, United States
END:VEVENT
BEGIN:VEVENT
DTSTART;VALUE=DATE:20250621
DTEND;VALUE=DATE:20250702
DTSTAMP:20260423T160822
CREATED:20241210T213931Z
LAST-MODIFIED:20241210T213931Z
UID:6860-1750464000-1751414399@choginal.org
SUMMARY:2025 National ChoG Convention and General Assembly
DESCRIPTION:2025 National Church of God Convention and General Assembly \nDenver\, Colorado \n  \nFor more info… \nhttps://www.jesusisthesubject.org/convention-2025/
URL:https://choginal.org/event/2025-national-chog-convention-and-general-assembly/
LOCATION:Sheraton Denver Downtown Hotel\, Denver\, CO\, United States
END:VEVENT
BEGIN:VEVENT
DTSTART;TZID=America/Chicago:20250315T090000
DTEND;TZID=America/Chicago:20250315T140000
DTSTAMP:20260423T160822
CREATED:20250220T172233Z
LAST-MODIFIED:20250220T172618Z
UID:6940-1742029200-1742047200@choginal.org
SUMMARY:2025 Ala Ministers Conference
DESCRIPTION:2025 Ala Ministers Conference \n\n\n\n\n\n\n\n\n\n\n\n\n\n\n\nMarch 15 \n9am – 2pm \n \nWorkshop \nhttps://www.WorkshopLocal.com \n186 Oxmoor Road\, No. 220\nHomewood\, AL 35209 \n\n \nMichael Mason\nMichael Mason has pastored three churches for a total of thirteen years… and served as a traveling evangelist for all the remaining years of his ministry. ​He is a graduate of Brewer High School\, Athens University (BS)\, New Orleans Baptist Theological Seminary (MDIV) and The Southern Baptist Theological Seminary (DMIN).  He has written three books\,  \nOne Hope…Believing God When There’s Every Reason To Give Up \nDeep Dark Holes…The Truth About Traps\, Trouble\, and Temptation  \nFaithful…Standing on Truth and Walking in Favor. ​ \nHe has a passion to preach the Gospel of Christ\, to see lives changed by the power of the message and to see the lost saved. He is honored and humbled to have the opportunity to do what he loves.  \nSchedule \n     9am – 10am  Business Meeting \n     10:30am-11:30am  Session 1 – Speaker Michael Mason \n     11:45am – 12:30pm  Lunch \n     12:30pm – 2pm  Session 2 – Speaker Greg Hill (Fairview The Grace Place) \n  \nPlace \n      Workshop is a thoughtfully designed space that lives at the intersection of connection\, community\, and creativity by providing different classes that both inspire and educate\, all while bringing people together. \n 
URL:https://choginal.org/event/2025-ala-ministers-conference/
LOCATION:Workshop\, 186 Oxmoor Road\, No. 220\, Homewood\, AL\, 35209\, United States
ORGANIZER;CN="Milan Dekich":MAILTO:pastormilan@choginal.org
END:VEVENT
BEGIN:VEVENT
DTSTART;VALUE=DATE:20250205
DTEND;VALUE=DATE:20250208
DTSTAMP:20260423T160822
CREATED:20241210T213357Z
LAST-MODIFIED:20241210T214017Z
UID:6855-1738713600-1738972799@choginal.org
SUMMARY:2025 YP60 National ChoG Youth Pastor Retreat
DESCRIPTION:YP60 \n2025 National ChoG Youth Pastor Retreat \nFebruary 5-7\, 2025 \nLake Aurora in Lake Wales\, Florida \n  \nLink to Registration Page… \nhttps://chogministries.regfox.com/yp60-2025 \nPlease note\, registration deadline is Friday\, January 17\, 2025
URL:https://choginal.org/event/yp60-national-youth-pastor-retreat/
LOCATION:Lake Aurora\, Lake Wales\, FL\, Lake Aurora\, Lake Wales\, FL\, United States
END:VEVENT
BEGIN:VEVENT
DTSTART;VALUE=DATE:20250118
DTEND;VALUE=DATE:20250121
DTSTAMP:20260423T160822
CREATED:20241210T212703Z
LAST-MODIFIED:20241210T212834Z
UID:6849-1737158400-1737417599@choginal.org
SUMMARY:2025 FORGE! - Ala State Youth Convention
DESCRIPTION:Alabama State Youth Convention \nJanuary 18-20\, 2025 \nEmbassy Suites\, Huntsville\, AL \n  \nFORGE! Registration Link: \nhttps://docs.google.com/forms/d/e/1FAIpQLSdL0zFfxWIbGh-qiv4O9I6ihF_WrQgmBcdRHjix-QZaVMpDlw/viewform
URL:https://choginal.org/event/2025-forge-ala-state-youth-convention/
LOCATION:Embassy Suites\, Huntsvile\, AL\, 800 Monroe St SW\, Huntsville\, AL\, 35801\, United States
ORGANIZER;CN="Michele Murray":MAILTO:chelesong22@gmail.com
END:VEVENT
BEGIN:VEVENT
DTSTART;TZID=America/Chicago:20241206T180000
DTEND;TZID=America/Chicago:20241206T200000
DTSTAMP:20260423T160822
CREATED:20240816T011548Z
LAST-MODIFIED:20241025T040051Z
UID:6826-1733508000-1733515200@choginal.org
SUMMARY:2024 Alabama Leadership Unity Banquet
DESCRIPTION:Time for our Unity Banquet.   \nAn opportunity to meet Church of God folks from all over the state.  \nIt is free to you and open to all pastors\, leaders\, staff\, and spouses.   \nThe banquet will include a delicious dinner and entertainment.  \nSpread the word.   \nPlease let us know how many you have coming through the info listed on this flyer.   \n  \n \n  \n6pm  |  FREE \nServing Italian for Dinner \nBusiness Casual  |  Childcare Not Provided \nRSVP to JEREMY BOLZLE \n256-507-1900 \nJ_BOLZLE@YAHOO.COM \n 
URL:https://choginal.org/event/alabama-leadership-unity-banquet/
LOCATION:Loft 212\, 212 4th St SW\, Cullma\,AL 35055\, 212 4th St SW\, Cullman\, AL\, 35055\, United States
ORGANIZER;CN="Jeremy Bolzle":MAILTO:j_bolzle@yahoo.com
END:VEVENT
BEGIN:VEVENT
DTSTART;TZID=America/Chicago:20241102T093000
DTEND;TZID=America/Chicago:20241102T120000
DTSTAMP:20260423T160822
CREATED:20240816T010608Z
LAST-MODIFIED:20241025T170737Z
UID:6824-1730539800-1730548800@choginal.org
SUMMARY:2024 General Assembly Meeting
DESCRIPTION:2024 General Assembly Meeting \n@ Fairview Church of God-The Grace Place \nNovember 2\, 2024 \n9:30am – 12noon \n  \nThe General Assembly meets once a year to pass our budget and conduct business.  This year\, 2024\, the general assembly will meet on Nov. 2\, 9:30 AM at Fairview Church of God\, a.k.a The Grace Place. Each recognized Church of God in Alabama with Anderson\, Indiana as the administrative offices is invited to come. Your church can send two lay representatives and any credentialed minister to the General Assembly to vote in the assembly.  The General Assembly is your opportunity to participate in the business of the Church of God in Alabama. Please seize this chance to represent your church.  
URL:https://choginal.org/event/2024-general-assembly-meeting/
LOCATION:Fairview – The Grace Place\, 4154 Huckaby Bridge Road\, Falkville\, AL\, 35622\, United States
ORGANIZER;CN="Tony Weiger":MAILTO:tweiger@riverchase.cc
END:VEVENT
BEGIN:VEVENT
DTSTART;TZID=America/Chicago:20240914T090000
DTEND;TZID=America/Chicago:20240914T150000
DTSTAMP:20260423T160822
CREATED:20240814T015927Z
LAST-MODIFIED:20240816T010325Z
UID:6812-1726304400-1726326000@choginal.org
SUMMARY:2024 Alabama CWC Fall Retreat
DESCRIPTION:CWC Fall Retreat 2024  \n(click above for brochure) \n  \nTheme:  Encourage Your Soul \nSeptember 14\, 2024 \n9am to 3pm \nLongview Church of God \nSpeaker: Cheryl Ingram (Riverchase Community Church) \nWorshp: Longview Ladies \nCost: $25 \nLunch Provided \nRegister your group before September 7th \nContact Michele Murray (chelesong22@gmail.com)
URL:https://choginal.org/event/2024-alabama-cwc-fall-retreat/
LOCATION:Longview Church of God\, 2025 Co Rd 1269\, Vinemont\, AL\, 35179\, United States
ORGANIZER;CN="Michele Murray":MAILTO:chelesong22@gmail.com
END:VEVENT
BEGIN:VEVENT
DTSTART;VALUE=DATE:20240810
DTEND;VALUE=DATE:20240811
DTSTAMP:20260423T160822
CREATED:20240603T210355Z
LAST-MODIFIED:20240731T172816Z
UID:6745-1723248000-1723334399@choginal.org
SUMMARY:Alabama Church of God Campmeeting 2024
DESCRIPTION:Alabama Church of God Campmeeting \nAugust 10\, 2024 @ Fairview-The Grace Place \n(click for map) \n  \nUNITED! \nMany Stories\, One Glory. \n3pm Speaker – Elvin Morales \n6pm Speaker – Josh Sparkman \nWorship Leader – Zac Hilligoss \nChildcare will be provided for each service.  Dinner will be available between services. \nMake plans to join in with those from across the state as we come together for a time of teaching\, worship & fellowship.  We hope to see YOU there! \nIf you can’t make it\, see it live!  Point phone camera to one of these QR codes… \nView on Fairview’s YouTube Channel \n \nView on Fairview’s Website Media Page \nClick for Campmeeting Poster \nClick for Campmeeting Poster in Spanish
URL:https://choginal.org/event/alabama-church-of-god-campmeeting-2024/
LOCATION:Fairview – The Grace Place\, 4154 Huckaby Bridge Road\, Falkville\, AL\, 35622\, United States
ORGANIZER;CN="Milan Dekich":MAILTO:pastormilan@choginal.org
END:VEVENT
BEGIN:VEVENT
DTSTART;VALUE=DATE:20240627
DTEND;VALUE=DATE:20240701
DTSTAMP:20260423T160822
CREATED:20231220T025523Z
LAST-MODIFIED:20231220T025523Z
UID:6597-1719446400-1719791999@choginal.org
SUMMARY:IYC2024-100 Years of Life Change
DESCRIPTION:International Youth Convention 2024 \n  \n100 Years of Life Change \nEst. 1924 \nPsalm 145:4-7 \n  \nEarly Bird Rate  $155 registration before February 2\, 2024 \nLife Change Rate  $169 registration before May 3\, 2024 \nLate/At-the-door  $189 registration before June 27\, 2024 \nCancellations:  There is a $50 cancellation fee for any cancellation made ON or BEFORE May 16\, 2024.  Cancellations after this date will NOT be refunded.
URL:https://choginal.org/event/iyc2024-100-years-of-life-change/
LOCATION:Orlando World Center Marriott\, Orlando\, FL\, United States
END:VEVENT
BEGIN:VEVENT
DTSTART;VALUE=DATE:20240618
DTEND;VALUE=DATE:20240621
DTSTAMP:20260423T160822
CREATED:20231220T032036Z
LAST-MODIFIED:20231220T032036Z
UID:6608-1718668800-1718927999@choginal.org
SUMMARY:National Church of God Regional Meeting
DESCRIPTION:
URL:https://choginal.org/event/national-church-of-god-regional-meeting-2/
LOCATION:Crossings Community Church\, Oklahoma City\, OK\, United States
END:VEVENT
BEGIN:VEVENT
DTSTART;VALUE=DATE:20240617
DTEND;VALUE=DATE:20240622
DTSTAMP:20260423T160822
CREATED:20240226T023505Z
LAST-MODIFIED:20240409T185107Z
UID:6693-1718582400-1719014399@choginal.org
SUMMARY:2024 Intermediate Camp at Chula Vista
DESCRIPTION:2024 Intermediate Camp \n@ Camp Chula Vista \nJune 17 thru June 21\, 2024 \nClick for more details/registration/payment… \n 
URL:https://choginal.org/event/intermediate-camp-2024-at-chula-vista/
LOCATION:Camp Chula Vista\, 1000 Chula Vista Lane\, Pell City\, AL\, 35125\, United States
ORGANIZER;CN="Valerie Higgins":MAILTO:higginsva@gmail.com
END:VEVENT
BEGIN:VEVENT
DTSTART;VALUE=DATE:20240610
DTEND;VALUE=DATE:20240616
DTSTAMP:20260423T160822
CREATED:20240226T023328Z
LAST-MODIFIED:20240409T185134Z
UID:6691-1717977600-1718495999@choginal.org
SUMMARY:2024 Junior High Camp at Chula Vista
DESCRIPTION:2024 Junior High Camp \n@ Camp Chula Vista \nJune 10 thru June 15\, 2024 \nClick for more details/registration/payment…
URL:https://choginal.org/event/junior-high-camp-at-chula-vista/
LOCATION:Camp Chula Vista\, 1000 Chula Vista Lane\, Pell City\, AL\, 35125\, United States
ORGANIZER;CN="Valerie Higgins":MAILTO:higginsva@gmail.com
END:VEVENT
BEGIN:VEVENT
DTSTART;VALUE=DATE:20240603
DTEND;VALUE=DATE:20240609
DTSTAMP:20260423T160822
CREATED:20240226T023117Z
LAST-MODIFIED:20240409T185024Z
UID:6689-1717372800-1717891199@choginal.org
SUMMARY:2024 Senior High Camp at Chula Vista
DESCRIPTION:2024 Senior High Camp \n@ Camp Chula Vista \nJune 3 thru June 8\, 2024 \nClick for more details/registration/payment…
URL:https://choginal.org/event/senior-high-camp-at-chula-vista/
LOCATION:Camp Chula Vista\, 1000 Chula Vista Lane\, Pell City\, AL\, 35125\, United States
ORGANIZER;CN="Valerie Higgins":MAILTO:higginsva@gmail.com
END:VEVENT
BEGIN:VEVENT
DTSTART;VALUE=DATE:20240529
DTEND;VALUE=DATE:20240602
DTSTAMP:20260423T160822
CREATED:20240226T022850Z
LAST-MODIFIED:20240409T184410Z
UID:6686-1716940800-1717286399@choginal.org
SUMMARY:2024 Primary Camp at Chula Vista
DESCRIPTION:2024 Primary Camp \n@ Camp Chula Vista \nMay 29 thru June 1\, 2024 \nClick for more details/registration/payment…
URL:https://choginal.org/event/primary-camp-at-chula-vista/
LOCATION:Camp Chula Vista\, 1000 Chula Vista Lane\, Pell City\, AL\, 35125\, United States
ORGANIZER;CN="Valerie Higgins":MAILTO:higginsva@gmail.com
END:VEVENT
BEGIN:VEVENT
DTSTART;VALUE=DATE:20240515
DTEND;VALUE=DATE:20240519
DTSTAMP:20260423T160822
CREATED:20231220T031736Z
LAST-MODIFIED:20231220T031736Z
UID:6605-1715731200-1716076799@choginal.org
SUMMARY:National Church of God Regional Meeting
DESCRIPTION:
URL:https://choginal.org/event/national-church-of-god-regional-meeting/
LOCATION:Misfits Center of Hope LA\, Inglewood\, CA\, United States
END:VEVENT
BEGIN:VEVENT
DTSTART;TZID=America/Chicago:20240302T093000
DTEND;TZID=America/Chicago:20240302T153000
DTSTAMP:20260423T160822
CREATED:20240118T003155Z
LAST-MODIFIED:20240119T221918Z
UID:6650-1709371800-1709393400@choginal.org
SUMMARY:Church Cardiology Conference
DESCRIPTION:Click here… to register for this conference.
URL:https://choginal.org/event/church-cardiology-conference/
LOCATION:Riverchase Community Church\, 2053 Old Montgomery Highway\, Birmingham\, AL\, 35244\, United States
END:VEVENT
BEGIN:VEVENT
DTSTART;TZID=America/Chicago:20240224T090000
DTEND;TZID=America/Chicago:20240224T110000
DTSTAMP:20260423T160822
CREATED:20240220T042741Z
LAST-MODIFIED:20240220T042741Z
UID:6676-1708765200-1708772400@choginal.org
SUMMARY:State Council Meeting via Zoom
DESCRIPTION:Good Morning\, \nHope you all are staying warm for this icy day. We will have a ZOOM state Council Meeting on February 24 at 9:00 AM. I have sent you all the invite for the meeting. Please let me know if you haven’t received it. I will send reminders out for the meeting as it gets closer.\n\nThank you\,\nMichele Murray- State Secretary
URL:https://choginal.org/event/state-council-meeting-via-zoom/
LOCATION:IN
ORGANIZER;CN="Michele Murray":MAILTO:chelesong22@gmail.com
END:VEVENT
BEGIN:VEVENT
DTSTART;VALUE=DATE:20240216
DTEND;VALUE=DATE:20240218
DTSTAMP:20260423T160822
CREATED:20231220T031102Z
LAST-MODIFIED:20240119T222531Z
UID:6602-1708041600-1708214399@choginal.org
SUMMARY:FORGE! - Alabama Youth Convention
DESCRIPTION: 
URL:https://choginal.org/event/forge-alabama-youth-convention/
LOCATION:Rock Creek Church of God\, 1001 Park Road\, Bessemer\, AL\, 35023\, United States
END:VEVENT
END:VCALENDAR