BEGIN:VCALENDAR
VERSION:2.0
PRODID:-//CHOGinAL - ECPv6.15.20//NONSGML v1.0//EN
CALSCALE:GREGORIAN
METHOD:PUBLISH
X-WR-CALNAME:CHOGinAL
X-ORIGINAL-URL:https://choginal.org
X-WR-CALDESC:Events for CHOGinAL
REFRESH-INTERVAL;VALUE=DURATION:PT1H
X-Robots-Tag:noindex
X-PUBLISHED-TTL:PT1H
BEGIN:VTIMEZONE
TZID:America/Chicago
BEGIN:DAYLIGHT
TZOFFSETFROM:-0600
TZOFFSETTO:-0500
TZNAME:CDT
DTSTART:20250309T080000
END:DAYLIGHT
BEGIN:STANDARD
TZOFFSETFROM:-0500
TZOFFSETTO:-0600
TZNAME:CST
DTSTART:20251102T070000
END:STANDARD
BEGIN:DAYLIGHT
TZOFFSETFROM:-0600
TZOFFSETTO:-0500
TZNAME:CDT
DTSTART:20260308T080000
END:DAYLIGHT
BEGIN:STANDARD
TZOFFSETFROM:-0500
TZOFFSETTO:-0600
TZNAME:CST
DTSTART:20261101T070000
END:STANDARD
BEGIN:DAYLIGHT
TZOFFSETFROM:-0600
TZOFFSETTO:-0500
TZNAME:CDT
DTSTART:20270314T080000
END:DAYLIGHT
BEGIN:STANDARD
TZOFFSETFROM:-0500
TZOFFSETTO:-0600
TZNAME:CST
DTSTART:20271107T070000
END:STANDARD
END:VTIMEZONE
BEGIN:VEVENT
DTSTART;TZID=America/Chicago:20261106T180000
DTEND;TZID=America/Chicago:20261106T200000
DTSTAMP:20260423T170651
CREATED:20260217T020803Z
LAST-MODIFIED:20260217T020803Z
UID:7168-1793988000-1793995200@choginal.org
SUMMARY:2026 Unity Banquet
DESCRIPTION:2026 \nAlabama Church of God \nUnity Banquet \nNovember 7\, 2026 – 6pm \nLoft 212\, 212 4th St SW\, Cullman\, Alabama \nEntertainment by Kevin Derryberry \nMore details coming soon…
URL:https://choginal.org/event/2026-unity-banquet/
LOCATION:Loft 212\, 212 4th St SW\, Cullma\,AL 35055\, 212 4th St SW\, Cullman\, AL\, 35055\, United States
ORGANIZER;CN="Jeremy Bolzle":MAILTO:j_bolzle@yahoo.com
END:VEVENT
END:VCALENDAR