BEGIN:VCALENDAR
VERSION:2.0
PRODID:-//CHOGinAL - ECPv6.15.20//NONSGML v1.0//EN
CALSCALE:GREGORIAN
METHOD:PUBLISH
X-ORIGINAL-URL:https://choginal.org
X-WR-CALDESC:Events for CHOGinAL
REFRESH-INTERVAL;VALUE=DURATION:PT1H
X-Robots-Tag:noindex
X-PUBLISHED-TTL:PT1H
BEGIN:VTIMEZONE
TZID:America/Chicago
BEGIN:DAYLIGHT
TZOFFSETFROM:-0600
TZOFFSETTO:-0500
TZNAME:CDT
DTSTART:20220313T080000
END:DAYLIGHT
BEGIN:STANDARD
TZOFFSETFROM:-0500
TZOFFSETTO:-0600
TZNAME:CST
DTSTART:20221106T070000
END:STANDARD
BEGIN:DAYLIGHT
TZOFFSETFROM:-0600
TZOFFSETTO:-0500
TZNAME:CDT
DTSTART:20230312T080000
END:DAYLIGHT
BEGIN:STANDARD
TZOFFSETFROM:-0500
TZOFFSETTO:-0600
TZNAME:CST
DTSTART:20231105T070000
END:STANDARD
BEGIN:DAYLIGHT
TZOFFSETFROM:-0600
TZOFFSETTO:-0500
TZNAME:CDT
DTSTART:20240310T080000
END:DAYLIGHT
BEGIN:STANDARD
TZOFFSETFROM:-0500
TZOFFSETTO:-0600
TZNAME:CST
DTSTART:20241103T070000
END:STANDARD
END:VTIMEZONE
BEGIN:VEVENT
DTSTART;TZID=America/Chicago:20230923T090000
DTEND;TZID=America/Chicago:20230923T150000
DTSTAMP:20260425T063050
CREATED:20230805T021602Z
LAST-MODIFIED:20230816T174653Z
UID:6404-1695459600-1695481200@choginal.org
SUMMARY:2023 CWC Fall Event
DESCRIPTION:CWC Fall Retreat – “The Praying Woman” \n(click for full size brochure) \n \nReminder: \nRegistration can be paid online at our website Payment Portal.
URL:https://choginal.org/event/cwc-fall-event/
LOCATION:Madison First Chuch of God\, 1537 Capshaw Road\, Madison\, AL\, 35757\, United States
ORGANIZER;CN="Michele Murray":MAILTO:chelesong22@gmail.com
END:VEVENT
END:VCALENDAR