BEGIN:VCALENDAR
VERSION:2.0
PRODID:-//CHOGinAL - ECPv6.15.20//NONSGML v1.0//EN
CALSCALE:GREGORIAN
METHOD:PUBLISH
X-WR-CALNAME:CHOGinAL
X-ORIGINAL-URL:https://choginal.org
X-WR-CALDESC:Events for CHOGinAL
REFRESH-INTERVAL;VALUE=DURATION:PT1H
X-Robots-Tag:noindex
X-PUBLISHED-TTL:PT1H
BEGIN:VTIMEZONE
TZID:America/Chicago
BEGIN:DAYLIGHT
TZOFFSETFROM:-0600
TZOFFSETTO:-0500
TZNAME:CDT
DTSTART:20220313T080000
END:DAYLIGHT
BEGIN:STANDARD
TZOFFSETFROM:-0500
TZOFFSETTO:-0600
TZNAME:CST
DTSTART:20221106T070000
END:STANDARD
BEGIN:DAYLIGHT
TZOFFSETFROM:-0600
TZOFFSETTO:-0500
TZNAME:CDT
DTSTART:20230312T080000
END:DAYLIGHT
BEGIN:STANDARD
TZOFFSETFROM:-0500
TZOFFSETTO:-0600
TZNAME:CST
DTSTART:20231105T070000
END:STANDARD
BEGIN:DAYLIGHT
TZOFFSETFROM:-0600
TZOFFSETTO:-0500
TZNAME:CDT
DTSTART:20240310T080000
END:DAYLIGHT
BEGIN:STANDARD
TZOFFSETFROM:-0500
TZOFFSETTO:-0600
TZNAME:CST
DTSTART:20241103T070000
END:STANDARD
END:VTIMEZONE
BEGIN:VEVENT
DTSTART;TZID=America/Chicago:20230916T080000
DTEND;TZID=America/Chicago:20230916T120000
DTSTAMP:20260425T063008
CREATED:20230828T212406Z
LAST-MODIFIED:20230828T212406Z
UID:6434-1694851200-1694865600@choginal.org
SUMMARY:Risen Church in Hartselle Work Day
DESCRIPTION:Risen Church in Hartselle is resurrecting and needs your help.  We will have work day on Sept 16 8-12 to repair and clean up in preparation for their reopening.  Come help us if you can.  Let me know if you are able to contribute.  Thanks. \n-Milan (PastorMilan@choginal.org)
URL:https://choginal.org/event/risen-church-in-hartselle-work-day/
LOCATION:Risen Church in Hartsele\, 1038 Main St West\, Hartelle\, AL\, 35640\, United States
ORGANIZER;CN="Milan Dekich":MAILTO:pastormilan@choginal.org
END:VEVENT
END:VCALENDAR