BEGIN:VCALENDAR
VERSION:2.0
PRODID:-//CHOGinAL - ECPv6.15.20//NONSGML v1.0//EN
CALSCALE:GREGORIAN
METHOD:PUBLISH
X-WR-CALNAME:CHOGinAL
X-ORIGINAL-URL:https://choginal.org
X-WR-CALDESC:Events for CHOGinAL
REFRESH-INTERVAL;VALUE=DURATION:PT1H
X-Robots-Tag:noindex
X-PUBLISHED-TTL:PT1H
BEGIN:VTIMEZONE
TZID:America/Chicago
BEGIN:DAYLIGHT
TZOFFSETFROM:-0600
TZOFFSETTO:-0500
TZNAME:CDT
DTSTART:20220313T080000
END:DAYLIGHT
BEGIN:STANDARD
TZOFFSETFROM:-0500
TZOFFSETTO:-0600
TZNAME:CST
DTSTART:20221106T070000
END:STANDARD
BEGIN:DAYLIGHT
TZOFFSETFROM:-0600
TZOFFSETTO:-0500
TZNAME:CDT
DTSTART:20230312T080000
END:DAYLIGHT
BEGIN:STANDARD
TZOFFSETFROM:-0500
TZOFFSETTO:-0600
TZNAME:CST
DTSTART:20231105T070000
END:STANDARD
BEGIN:DAYLIGHT
TZOFFSETFROM:-0600
TZOFFSETTO:-0500
TZNAME:CDT
DTSTART:20240310T080000
END:DAYLIGHT
BEGIN:STANDARD
TZOFFSETFROM:-0500
TZOFFSETTO:-0600
TZNAME:CST
DTSTART:20241103T070000
END:STANDARD
END:VTIMEZONE
BEGIN:VEVENT
DTSTART;TZID=America/Chicago:20230909T140000
DTEND;TZID=America/Chicago:20230909T180000
DTSTAMP:20260425T063015
CREATED:20230510T170221Z
LAST-MODIFIED:20230816T172516Z
UID:1348-1694268000-1694282400@choginal.org
SUMMARY:2023 Alabama State Campmeeting - NEW!!!
DESCRIPTION:2023 Alabama Church of God Campmeeting \n(Click for full size brochure) \n\n \nRiverchase Community Church\n2053 Old Montgomery Hwy\nBirmingham\, AL 35244 \n\n\nSpeaker: Rolland Daniels \nWorship: Zac Hilligoss\n \nBible Study:  Dr. Carolyn Jones \nSAVE THE DATE\, NOW! \n  \nSchedule of Events \n2pm – Ministers Meeting with Rolland Daniels \n2pm – Bible Study with Dr. Carolyn Jones \n2pm – Choir Rehearsal for anyone interested \n2pm – Service Project serving the homeless \n3:30-4:45pm – Fellowship Supper \n5-6:30pm – Evening Service \n 
URL:https://choginal.org/event/2023-alabama-campmeeting-new/
LOCATION:Riverchase Community Church\, 2053 Old Montgomery Highway\, Birmingham\, AL\, 35244\, United States
ATTACH;FMTTYPE=image/png:https://choginal.org/wp-content/uploads/2022/12/alacoglogo1.png
ORGANIZER;CN="Milan Dekich":MAILTO:pastormilan@choginal.org
END:VEVENT
END:VCALENDAR