BEGIN:VCALENDAR
VERSION:2.0
PRODID:-//CHOGinAL - ECPv6.15.20//NONSGML v1.0//EN
CALSCALE:GREGORIAN
METHOD:PUBLISH
X-ORIGINAL-URL:https://choginal.org
X-WR-CALDESC:Events for CHOGinAL
REFRESH-INTERVAL;VALUE=DURATION:PT1H
X-Robots-Tag:noindex
X-PUBLISHED-TTL:PT1H
BEGIN:VTIMEZONE
TZID:America/Chicago
BEGIN:DAYLIGHT
TZOFFSETFROM:-0600
TZOFFSETTO:-0500
TZNAME:CDT
DTSTART:20220313T080000
END:DAYLIGHT
BEGIN:STANDARD
TZOFFSETFROM:-0500
TZOFFSETTO:-0600
TZNAME:CST
DTSTART:20221106T070000
END:STANDARD
BEGIN:DAYLIGHT
TZOFFSETFROM:-0600
TZOFFSETTO:-0500
TZNAME:CDT
DTSTART:20230312T080000
END:DAYLIGHT
BEGIN:STANDARD
TZOFFSETFROM:-0500
TZOFFSETTO:-0600
TZNAME:CST
DTSTART:20231105T070000
END:STANDARD
BEGIN:DAYLIGHT
TZOFFSETFROM:-0600
TZOFFSETTO:-0500
TZNAME:CDT
DTSTART:20240310T080000
END:DAYLIGHT
BEGIN:STANDARD
TZOFFSETFROM:-0500
TZOFFSETTO:-0600
TZNAME:CST
DTSTART:20241103T070000
END:STANDARD
END:VTIMEZONE
BEGIN:VEVENT
DTSTART;VALUE=DATE:20230613
DTEND;VALUE=DATE:20230618
DTSTAMP:20260425T111216
CREATED:20230406T181636Z
LAST-MODIFIED:20230626T193736Z
UID:1269-1686614400-1687046399@choginal.org
SUMMARY:Intermediate Camp
DESCRIPTION:INTERMEDIATE CAMP IS OVER.\nClick for Camp Pictures… \n\nChildren completing 3rd – 5th grade\nEarly bird registration – $200\nRegistration after May 15 – $225\n\nClick to make your payment online… \n 
URL:https://choginal.org/event/intermediate-camp/
LOCATION:Camp Chula Vista\, 1000 Chula Vista Lane\, Pell City\, AL\, 35125\, United States
ATTACH;FMTTYPE=image/png:https://choginal.org/wp-content/uploads/2023/03/CCV2023Logo-copy.png
ORGANIZER;CN="Valerie Higgins":MAILTO:higginsva@gmail.com
END:VEVENT
END:VCALENDAR