BEGIN:VCALENDAR
VERSION:2.0
PRODID:-//CHOGinAL - ECPv6.15.20//NONSGML v1.0//EN
CALSCALE:GREGORIAN
METHOD:PUBLISH
X-ORIGINAL-URL:https://choginal.org
X-WR-CALDESC:Events for CHOGinAL
REFRESH-INTERVAL;VALUE=DURATION:PT1H
X-Robots-Tag:noindex
X-PUBLISHED-TTL:PT1H
BEGIN:VTIMEZONE
TZID:America/Chicago
BEGIN:DAYLIGHT
TZOFFSETFROM:-0600
TZOFFSETTO:-0500
TZNAME:CDT
DTSTART:20220313T080000
END:DAYLIGHT
BEGIN:STANDARD
TZOFFSETFROM:-0500
TZOFFSETTO:-0600
TZNAME:CST
DTSTART:20221106T070000
END:STANDARD
BEGIN:DAYLIGHT
TZOFFSETFROM:-0600
TZOFFSETTO:-0500
TZNAME:CDT
DTSTART:20230312T080000
END:DAYLIGHT
BEGIN:STANDARD
TZOFFSETFROM:-0500
TZOFFSETTO:-0600
TZNAME:CST
DTSTART:20231105T070000
END:STANDARD
BEGIN:DAYLIGHT
TZOFFSETFROM:-0600
TZOFFSETTO:-0500
TZNAME:CDT
DTSTART:20240310T080000
END:DAYLIGHT
BEGIN:STANDARD
TZOFFSETFROM:-0500
TZOFFSETTO:-0600
TZNAME:CST
DTSTART:20241103T070000
END:STANDARD
END:VTIMEZONE
BEGIN:VEVENT
DTSTART;TZID=America/Chicago:20230506T090000
DTEND;TZID=America/Chicago:20230506T140000
DTSTAMP:20260425T123021
CREATED:20230406T180138Z
LAST-MODIFIED:20230406T181440Z
UID:1263-1683363600-1683381600@choginal.org
SUMMARY:Camp Chula Vista Counselor Training
DESCRIPTION:We are getting ready for summer at Camp Chula Vista! \nAre you joining us this year? \n  \nIf you or someone you know are interested in serving as a counselor at CCV this summer\, please begin by completing the online application. Applicants must be 21 years old to serve at Junior and Senior High camps\, 18 years old to serve at Primary and Intermediate camps\, or 16 years old to serve as a junior counselor at Primary and Intermediate camps. Applicants over 18 must pass a background check\, and all applicants must have a pastoral recommendation. \n  \nCounselors will be contacted by the directors of the camps and will have a Zoom meeting with the director and other counselors approximately one month before camp. \n  \nAdditionally\, all counselors must participate in training. We have some options: \n\n\nIn person counselor training and camp work day at Camp Chula Vista\, May 6\, 9am – 2pm.  \n\n\nOnline video training. Returning counselors are required to watch the first two training videos. New counselors must watch all videos. Returning counselors are encouraged to watch additional training videos. \n\n\n  \nPlease pass this along to others who may be interested in serving as a counselor this summer! We are always in awe of the way God meets with each of us and works in the lives of His children at Camp Chula Vista! \nValerie Higgins\n205.307.8556\nhigginsva@gmail.com\n\n\nSydney Payne\n256.227.6652\nsydneyherron1997@gmail.com
URL:https://choginal.org/event/camp-chula-vista-counselor-training/
LOCATION:Camp Chula Vista\, 1000 Chula Vista Lane\, Pell City\, AL\, 35125\, United States
ORGANIZER;CN="Valerie Higgins":MAILTO:higginsva@gmail.com
END:VEVENT
END:VCALENDAR