BEGIN:VCALENDAR
VERSION:2.0
PRODID:-//CHOGinAL - ECPv6.15.20//NONSGML v1.0//EN
CALSCALE:GREGORIAN
METHOD:PUBLISH
X-WR-CALNAME:CHOGinAL
X-ORIGINAL-URL:https://choginal.org
X-WR-CALDESC:Events for CHOGinAL
REFRESH-INTERVAL;VALUE=DURATION:PT1H
X-Robots-Tag:noindex
X-PUBLISHED-TTL:PT1H
BEGIN:VTIMEZONE
TZID:America/Chicago
BEGIN:DAYLIGHT
TZOFFSETFROM:-0600
TZOFFSETTO:-0500
TZNAME:CDT
DTSTART:20210314T080000
END:DAYLIGHT
BEGIN:STANDARD
TZOFFSETFROM:-0500
TZOFFSETTO:-0600
TZNAME:CST
DTSTART:20211107T070000
END:STANDARD
BEGIN:DAYLIGHT
TZOFFSETFROM:-0600
TZOFFSETTO:-0500
TZNAME:CDT
DTSTART:20220313T080000
END:DAYLIGHT
BEGIN:STANDARD
TZOFFSETFROM:-0500
TZOFFSETTO:-0600
TZNAME:CST
DTSTART:20221106T070000
END:STANDARD
BEGIN:DAYLIGHT
TZOFFSETFROM:-0600
TZOFFSETTO:-0500
TZNAME:CDT
DTSTART:20230312T080000
END:DAYLIGHT
BEGIN:STANDARD
TZOFFSETFROM:-0500
TZOFFSETTO:-0600
TZNAME:CST
DTSTART:20231105T070000
END:STANDARD
END:VTIMEZONE
BEGIN:VEVENT
DTSTART;VALUE=DATE:20221114
DTEND;VALUE=DATE:20221115
DTSTAMP:20260425T210318
CREATED:20221109T180730Z
LAST-MODIFIED:20221109T181336Z
UID:826-1668384000-1668470399@choginal.org
SUMMARY:ONE movement\, ONE day of prayer
DESCRIPTION:ONE MOVEMENT. ONE DAY OF PRAYER.\nOn November 14\, let us join together as ONE Movement for ONE day of prayer. Click the link below to find resources to guide you through this time of prayer\, however you choose to engage. But as we collectively lift our voice to heaven and humble ourselves\, we can trust God will hear\, fill\, and empower us. \nhttps://www.jesusisthesubject.org/day-of-prayer-2022/
URL:https://choginal.org/event/one-moment-one-day-of-prayer/
LOCATION:IN
ATTACH;FMTTYPE=image/png:https://choginal.org/wp-content/uploads/2022/11/onedayofprayer540x304.png
ORGANIZER;CN="Milan Dekich":MAILTO:pastormilan@choginal.org
END:VEVENT
END:VCALENDAR