BEGIN:VCALENDAR
VERSION:2.0
PRODID:-//CHOGinAL - ECPv6.15.20//NONSGML v1.0//EN
CALSCALE:GREGORIAN
METHOD:PUBLISH
X-ORIGINAL-URL:https://choginal.org
X-WR-CALDESC:Events for CHOGinAL
REFRESH-INTERVAL;VALUE=DURATION:PT1H
X-Robots-Tag:noindex
X-PUBLISHED-TTL:PT1H
BEGIN:VTIMEZONE
TZID:America/Chicago
BEGIN:DAYLIGHT
TZOFFSETFROM:-0600
TZOFFSETTO:-0500
TZNAME:CDT
DTSTART:20210314T080000
END:DAYLIGHT
BEGIN:STANDARD
TZOFFSETFROM:-0500
TZOFFSETTO:-0600
TZNAME:CST
DTSTART:20211107T070000
END:STANDARD
BEGIN:DAYLIGHT
TZOFFSETFROM:-0600
TZOFFSETTO:-0500
TZNAME:CDT
DTSTART:20220313T080000
END:DAYLIGHT
BEGIN:STANDARD
TZOFFSETFROM:-0500
TZOFFSETTO:-0600
TZNAME:CST
DTSTART:20221106T070000
END:STANDARD
BEGIN:DAYLIGHT
TZOFFSETFROM:-0600
TZOFFSETTO:-0500
TZNAME:CDT
DTSTART:20230312T080000
END:DAYLIGHT
BEGIN:STANDARD
TZOFFSETFROM:-0500
TZOFFSETTO:-0600
TZNAME:CST
DTSTART:20231105T070000
END:STANDARD
END:VTIMEZONE
BEGIN:VEVENT
DTSTART;TZID=America/Chicago:20220926T183000
DTEND;TZID=America/Chicago:20220926T203000
DTSTAMP:20260425T222652
CREATED:20220920T184940Z
LAST-MODIFIED:20220920T190143Z
UID:773-1664217000-1664224200@choginal.org
SUMMARY:North Ala Minister's Fellowship Mtg
DESCRIPTION:North Alabama Minister’s Fellowship Meeting – Potluck Dinner for Ministers and Spouses \nNorth Alabama Ministers Fellowship – it is time to renew our gatherings as the Fall Season quickly approaches.  Our next meeting will be at the New Life Church of God in Falkville\, 1160 W Lacon Road\, Falkville\, Al\,35622.  Philip and Renee Hardin have graciously opened up the church for us on Monday\, Sept. 26 at 6:30 PM.  Spouses are invited and encouraged to come.  This gathering is a carry in\, pot luck meal so we are responsible to provide the delicious meal and New Life will provide drinks and plates for the meal.  I hope to see you at New Life for a good time of fellowship and encouragement. We need each other in these difficult days of church life. \nF. Michael Gunter \nSecretary/treasurer \n256.654.3737
URL:https://choginal.org/event/north-ala-ministers-fellowship-mtg/
LOCATION:New Life Church of God\, 1160 W Lacon Road\, Falkville\, Alabama\, 35622
END:VEVENT
END:VCALENDAR